BEGIN:VCALENDAR
VERSION:2.0
PRODID:icalendar-ruby
CALSCALE:GREGORIAN
METHOD:PUBLISH
BEGIN:VEVENT
DTSTAMP:20260424T153047Z
UID:322-10696627@fortgeorgebaptist.ca
DTSTART:20260426T190000Z
DTEND:20260426T200000Z
CLASS:PUBLIC
CREATED:20260407T131533
DESCRIPTION:The youth group is fundraising to go to May Camp at Green Bay B
 ible Camp. \nCome prepared to buy some baking to support them after churc
 h.\nIf you are intested in helping provide some baking\, talk to Nathan.
LAST-MODIFIED:20260407T131533
LOCATION:Fort George Baptist Church
SUMMARY:Youth Fundraiser Bake Sale
URL;VALUE=URI:https://www.fortgeorgebaptist.ca/events/youth-fundraiser-bake
 -sale/2026-04-26
END:VEVENT
END:VCALENDAR
