BEGIN:VCALENDAR
VERSION:2.0
PRODID:icalendar-ruby
CALSCALE:GREGORIAN
METHOD:PUBLISH
BEGIN:VEVENT
DTSTAMP:20260424T140628Z
UID:271-10696626@fortgeorgebaptist.ca
DTSTART:20260426T190000Z
DTEND:20260426T210000Z
CLASS:PUBLIC
CREATED:20260407T131340
DESCRIPTION:The last Sunday of each month all young adults are invited to a
  free meal after church. This is an opportunity to connect and hang out\, 
 and most importantly\, to eat together.\nThis monthly gathering will take 
 the place of the young adults event on the first Wednesday of the month.
LAST-MODIFIED:20260407T131340
LOCATION:Fort George Baptist Church
SUMMARY:Young Adults Lunch
URL;VALUE=URI:https://www.fortgeorgebaptist.ca/events/young-adults-lunch/20
 26-04-26
ATTACH;FILENAME=Young Adults Meal and Hangout.png;FMTTYPE=image/png:https:/
 /dq5pwpg1q8ru0.cloudfront.net/2025/08/27/10/51/03/ff3b68f2-7ec7-421e-9522-
 2b47cd820a3e/Young%20Adults%20Meal%20and%20Hangout.png
END:VEVENT
END:VCALENDAR
