BEGIN:VCALENDAR
VERSION:2.0
PRODID:icalendar-ruby
CALSCALE:GREGORIAN
METHOD:PUBLISH
BEGIN:VEVENT
DTSTAMP:20260422T214842Z
UID:117-11172695@fortgeorgebaptist.ca
DTSTART:20261006T140000Z
DTEND:20261006T143000Z
CLASS:PUBLIC
CREATED:20260422T144524
DESCRIPTION:Come join us for Tuesday Morning Zoom Prayer (7am-7:30am Tuesd
 ays)\n"If My people will humble themselves and pray\, I will hear their pr
 ayer and heal their land"\nIf you want to join please send Pastor Dan an e
 mail and he will send you a link at around 6:55am on Tuesday mornings.\nSe
 e you in the morning!
LAST-MODIFIED:20260422T144524
LOCATION:
SUMMARY:Tuesday Morning Prayer
URL;VALUE=URI:https://www.fortgeorgebaptist.ca/events/tuesday-morning-praye
 r/2026-10-06
ATTACH;FILENAME=1500x784 (3).png;FMTTYPE=image/png:https://dq5pwpg1q8ru0.cl
 oudfront.net/2020/04/14/01/11/30/efab9cf3-e8fc-4727-8b69-5bb1e0ebb655/1500
 x784%20(3).png
END:VEVENT
END:VCALENDAR
