BEGIN:VCALENDAR
VERSION:2.0
PRODID:icalendar-ruby
CALSCALE:GREGORIAN
METHOD:PUBLISH
BEGIN:VEVENT
DTSTAMP:20260421T103848Z
UID:311-10192723@fortgeorgebaptist.ca
DTSTART:20260331T013000Z
DTEND:20260331T033000Z
CLASS:PUBLIC
CREATED:20260322T073247
DESCRIPTION:If you were a part of the Prayer Sister ministry over the last 
 6 months\, you are welcome to a time of fellowship\, sharing\, and dessert
 .\nIf the doors are locked text Lorraine (250-567-0877).\n 
LAST-MODIFIED:20260322T073247
LOCATION:Fort George Baptist Church (Upper Room)
SUMMARY:Prayer Sisters Windup
URL;VALUE=URI:https://www.fortgeorgebaptist.ca/events/prayer-sisters-windup
 /2026-03-30
ATTACH;FILENAME=ChatGPT-Image-Mar-18-2026-10_04_59-AM.png;FMTTYPE=image/png
 :https://dq5pwpg1q8ru0.cloudfront.net/2026/03/18/17/06/16/115aca81-1b18-46
 df-82b0-63277e42e5a6/ChatGPT-Image-Mar-18-2026-10_04_59-AM.png
END:VEVENT
END:VCALENDAR
