BEGIN:VCALENDAR
VERSION:2.0
PRODID:icalendar-ruby
CALSCALE:GREGORIAN
METHOD:PUBLISH
BEGIN:VEVENT
DTSTAMP:20260421T102847Z
UID:307-9758332@fortgeorgebaptist.ca
DTSTART:20260425T160000Z
DTEND:20260425T180000Z
CLASS:PUBLIC
CREATED:20260308T083040
DESCRIPTION:Everyone is welcome to a time of prayer for our city\, mayor\, 
 and council.\nTickets are $35 and can be purchased from Linda.
LAST-MODIFIED:20260308T083040
LOCATION:Coast Inn of the North
SUMMARY:Mayor's Prayer Breakfast
URL;VALUE=URI:https://www.fortgeorgebaptist.ca/events/mayors-prayer-breakfa
 st--307/2026-04-25
ATTACH;FILENAME=1405a0ef-1.jpg;FMTTYPE=image/jpeg:https://dq5pwpg1q8ru0.clo
 udfront.net/2026/03/08/15/30/39/cc53d53c-9a56-4ab2-8bd8-6fe6b55eb1ea/1405a
 0ef-1.jpg
END:VEVENT
END:VCALENDAR
